BEGIN:VCALENDAR
VERSION:2.0
PRODID:-//Franziska Rief - Freiheitscoaching. Kinesiologie. Ausbildung. - ECPv6.15.20//NONSGML v1.0//EN
CALSCALE:GREGORIAN
METHOD:PUBLISH
X-WR-CALNAME:Franziska Rief - Freiheitscoaching. Kinesiologie. Ausbildung.
X-ORIGINAL-URL:https://www.franziskarief.de
X-WR-CALDESC:Veranstaltungen für Franziska Rief - Freiheitscoaching. Kinesiologie. Ausbildung.
REFRESH-INTERVAL;VALUE=DURATION:PT1H
X-Robots-Tag:noindex
X-PUBLISHED-TTL:PT1H
BEGIN:VTIMEZONE
TZID:Europe/Berlin
BEGIN:DAYLIGHT
TZOFFSETFROM:+0100
TZOFFSETTO:+0200
TZNAME:CEST
DTSTART:20190331T010000
END:DAYLIGHT
BEGIN:STANDARD
TZOFFSETFROM:+0200
TZOFFSETTO:+0100
TZNAME:CET
DTSTART:20191027T010000
END:STANDARD
BEGIN:DAYLIGHT
TZOFFSETFROM:+0100
TZOFFSETTO:+0200
TZNAME:CEST
DTSTART:20200329T010000
END:DAYLIGHT
BEGIN:STANDARD
TZOFFSETFROM:+0200
TZOFFSETTO:+0100
TZNAME:CET
DTSTART:20201025T010000
END:STANDARD
BEGIN:DAYLIGHT
TZOFFSETFROM:+0100
TZOFFSETTO:+0200
TZNAME:CEST
DTSTART:20210328T010000
END:DAYLIGHT
BEGIN:STANDARD
TZOFFSETFROM:+0200
TZOFFSETTO:+0100
TZNAME:CET
DTSTART:20211031T010000
END:STANDARD
BEGIN:DAYLIGHT
TZOFFSETFROM:+0100
TZOFFSETTO:+0200
TZNAME:CEST
DTSTART:20220327T010000
END:DAYLIGHT
BEGIN:STANDARD
TZOFFSETFROM:+0200
TZOFFSETTO:+0100
TZNAME:CET
DTSTART:20221030T010000
END:STANDARD
BEGIN:DAYLIGHT
TZOFFSETFROM:+0100
TZOFFSETTO:+0200
TZNAME:CEST
DTSTART:20230326T010000
END:DAYLIGHT
BEGIN:STANDARD
TZOFFSETFROM:+0200
TZOFFSETTO:+0100
TZNAME:CET
DTSTART:20231029T010000
END:STANDARD
BEGIN:DAYLIGHT
TZOFFSETFROM:+0100
TZOFFSETTO:+0200
TZNAME:CEST
DTSTART:20240331T010000
END:DAYLIGHT
BEGIN:STANDARD
TZOFFSETFROM:+0200
TZOFFSETTO:+0100
TZNAME:CET
DTSTART:20241027T010000
END:STANDARD
BEGIN:DAYLIGHT
TZOFFSETFROM:+0100
TZOFFSETTO:+0200
TZNAME:CEST
DTSTART:20250330T010000
END:DAYLIGHT
BEGIN:STANDARD
TZOFFSETFROM:+0200
TZOFFSETTO:+0100
TZNAME:CET
DTSTART:20251026T010000
END:STANDARD
BEGIN:DAYLIGHT
TZOFFSETFROM:+0100
TZOFFSETTO:+0200
TZNAME:CEST
DTSTART:20260329T010000
END:DAYLIGHT
BEGIN:STANDARD
TZOFFSETFROM:+0200
TZOFFSETTO:+0100
TZNAME:CET
DTSTART:20261025T010000
END:STANDARD
BEGIN:DAYLIGHT
TZOFFSETFROM:+0100
TZOFFSETTO:+0200
TZNAME:CEST
DTSTART:20270328T010000
END:DAYLIGHT
BEGIN:STANDARD
TZOFFSETFROM:+0200
TZOFFSETTO:+0100
TZNAME:CET
DTSTART:20271031T010000
END:STANDARD
END:VTIMEZONE
BEGIN:VEVENT
DTSTART;TZID=Europe/Berlin:20260418T100000
DTEND;TZID=Europe/Berlin:20260419T183000
DTSTAMP:20260420T105540
CREATED:20260115T125446Z
LAST-MODIFIED:20260115T125856Z
UID:8684-1776506400-1776623400@www.franziskarief.de
SUMMARY:TOUCH for HEALTH I meets YOGA
DESCRIPTION:In diesem Seminar bekommen Sie das Testen sowie Stärken der 14 Grundmuskeln vermittelt & ermöglichen sich damit eine Neuausrichtung von Körper und Geist. Die Phasen des FlowYoga machen für Sie die Effekte sofort fühlbar.\nMit dem Erlernen der Stressauflösungstechnik\, der Aktivierungstools sowie der Identifikation von Lebensmittelunverträglichkeiten erweitern Sie Ihr Wissen für eine erfolgreiche Grundbalance. \nKURSINHALT\n+ Erlernen der Technik des Muskeltestens\n+ Muskeltests der 14 Grundmuskeln & Stärkungstechniken \n\nUrsprung und Ansatz\nNeuro-lymphatische Massagepunkte\nNeurovaskuläre Kontaktpunkte\nMeridiane\n\n+ Emotionaler Stressabbau\n+ Augen- und Ohrenaktivierung\n+ Gehirnintegration – Cross Crawl\n+ Identifizierung von Lebensmittelunverträglichkeiten\n+ Surrogat – Testen über eine Ersatzperson\n+ TfH-Sitzung zu persönlicher Ziele\n+ Speziell zugeschnittene Yoga- und Bewegungsspecials \nMit Abschluss von TfH I haben Sie die Kenntnisse\, einen kompletten Sitzungsablauf inklusive Zielbalance durchzuführen.
URL:https://www.franziskarief.de/event/touch-for-health-i-meets-yoga/
LOCATION:Bewegungsraum der Kita Immergrün\, Adinda-Flemmich-Strasse 3\, Freiburg\, 79100\, Germany
CATEGORIES:Ausbildung,Kurs
END:VEVENT
BEGIN:VEVENT
DTSTART;TZID=Europe/Berlin:20260130T100000
DTEND;TZID=Europe/Berlin:20260201T183000
DTSTAMP:20260420T105540
CREATED:20240322T001710Z
LAST-MODIFIED:20250727T131245Z
UID:6940-1769767200-1769970600@www.franziskarief.de
SUMMARY:Matrix in Balance II
DESCRIPTION:EBENE 1\nErdung; das „Ja“ zum Leben\, „Ja“ zu mir selbst\, „Ja“ zu meinem Potenzial \n… vermittelt Ihnen zur Erweiterung Ihres Arbeitsmenüs eine Vielzahl äußerst effektiver Verfahren und Techniken zur Auflösung von Blockaden und Stress. Neben Gehirnintegrationen und Fingermodes werden Sie in das Modell der 7 Ebenen eingeführt. Entdecken Sie Ihre Fähigkeiten und Potenziale\, um diese ins Leben zu bringen. \nSie lernen … \n\nEinführung in PsychoEnergetics© – Klopfpunkte\nAuflösung von Fixierungen\, einschränkenden Glaubenssätzen und Konditionierungen\n4 grundlegende Fingermodes\n\n+ Elektrisch – Energetisch\n+ Emotional – Mental\n+ Ökologie – Stoffwechsel\n+ Strukturell – Energetisch \n\nLichtarbeit\nVerschiedene Möglichkeiten zur Gehirnintegration\nTechniken zur Verbesserung von Lernen\, Lesen\, Schreiben\, Rechnen\nIntegration der Augen- und Ohrenenergie\nÜberkreuzbahnung zur Integration der linken und rechten Gehirnhälfte\nKiefer-Grundbalance\nDas eigene Energiefeld stärken und weitere Energie-Techniken\nGesprächsführung
URL:https://www.franziskarief.de/event/matrix-in-balance-ii/
LOCATION:LICHTRAUM\, Vaubanallee 49\, Freiburg\, 79100
CATEGORIES:Ausbildung,Kurs
END:VEVENT
BEGIN:VEVENT
DTSTART;TZID=Europe/Berlin:20260110T100000
DTEND;TZID=Europe/Berlin:20260111T183000
DTSTAMP:20260420T105540
CREATED:20240322T001843Z
LAST-MODIFIED:20251008T105714Z
UID:6941-1768039200-1768156200@www.franziskarief.de
SUMMARY:Matrix in Balance I - Dein bewusster Neujahrsstart!
DESCRIPTION:Wie kreiere ich meine Wirklichkeit und wie lässt sich diese positiv verändern? Grundlegende Gesetzmäßigkeiten und Prinzipien des Lebens. \n\n\n\n\n… ist der Einstieg in die spannende Welt der Energetik und der Kinesiologie.\nErleben Sie\, wie Sie Ihre Wirklichkeit selbst erschaffen und wie sich diese positiv verändern lässt.\nMit dem sanften\, präzisen Muskeltest erhalten Sie Zugang zum Wissen des Körpers.\nErfahren Sie die heilsamen Auswirkungen unterschiedlicher Stress-Auflösungs-Methoden auf Ihre persönlichen Themen und Anliegen. Das Handwerkszeug des Grundkurses ermöglicht Ihnen\, eine vollständige Sitzung durchzuführen. \nSie lernen … \n\nverschiedene Arten des Muskeltests\neine Grundbalance aufzubauen\nArbeiten mit dem Matrix-Barometer\neinschränkende Emotionen zu transformieren\nZielfindung und Zielformulierung\neffektive Stressabbautechniken\nungelöste Konflikte zu klären\nblockierte Energie aus dem Körper zu lösen\neinen vollständigen Sitzungsablauf\nÜbungen zur Selbsthilfe; Stressmanagement im Alltag\nund viel Spannendes mehr
URL:https://www.franziskarief.de/event/matrix-in-balance-i/
LOCATION:Villaban – Raum 2\, 2. OG\, Marie-Curie-Straße 1\, Freiburg\, 79100
CATEGORIES:Ausbildung,Kurs
END:VEVENT
BEGIN:VEVENT
DTSTART;TZID=Europe/Berlin:20260108T190000
DTEND;TZID=Europe/Berlin:20260108T200000
DTSTAMP:20260420T105540
CREATED:20251130T144144Z
LAST-MODIFIED:20251130T144212Z
UID:8449-1767898800-1767902400@www.franziskarief.de
SUMMARY:INFOVERANSTALTUNG zum Botswana FREEDOM Retreat
DESCRIPTION:INFOVERANSTALTUNG zum Botswana FREEDOM Retreat \nNeugierig\, was Sie beim Botswana FREEDOM Retreat erwartet? 🌿✨In der Online-Zoom-Veranstaltung stellen wir\nAblauf\, Inhalte\, Unterkünfte und besonderen Highlights vor – und beantworten all Ihre Fragen. \nSeien Sie dabei und spüren Sie\, ob das Retreat für Sie passt!\nDen Meetinglink erhalten Sie einige Stunden vor der Veranstaltung per E-Mail. \nFranziska Rief
URL:https://www.franziskarief.de/event/infoveranstaltung-botswana-freedom-retreat/
LOCATION:Online via Zoom
CATEGORIES:Infoveranstaltung
END:VEVENT
BEGIN:VEVENT
DTSTART;TZID=Europe/Berlin:20251115T100000
DTEND;TZID=Europe/Berlin:20251116T183000
DTSTAMP:20260420T105540
CREATED:20250727T131002Z
LAST-MODIFIED:20251008T105645Z
UID:8223-1763200800-1763317800@www.franziskarief.de
SUMMARY:Matrix in Balance I
DESCRIPTION:Wie kreiere ich meine Wirklichkeit und wie lässt sich diese positiv verändern? Grundlegende Gesetzmäßigkeiten und Prinzipien des Lebens. \n\n\n\n\n… ist der Einstieg in die spannende Welt der Energetik und der Kinesiologie.\nErleben Sie\, wie Sie Ihre Wirklichkeit selbst erschaffen und wie sich diese positiv verändern lässt.\nMit dem sanften\, präzisen Muskeltest erhalten Sie Zugang zum Wissen des Körpers.\nErfahren Sie die heilsamen Auswirkungen unterschiedlicher Stress-Auflösungs-Methoden auf Ihre persönlichen Themen und Anliegen. Das Handwerkszeug des Grundkurses ermöglicht Ihnen\, eine vollständige Sitzung durchzuführen. \nSie lernen … \n\nverschiedene Arten des Muskeltests\neine Grundbalance aufzubauen\nArbeiten mit dem Matrix-Barometer\neinschränkende Emotionen zu transformieren\nZielfindung und Zielformulierung\neffektive Stressabbautechniken\nungelöste Konflikte zu klären\nblockierte Energie aus dem Körper zu lösen\neinen vollständigen Sitzungsablauf\nÜbungen zur Selbsthilfe; Stressmanagement im Alltag\nund viel Spannendes mehr
URL:https://www.franziskarief.de/event/matrix-in-balance-i-copy/
LOCATION:Raum der Stille (Stadtteilzentrum Haus 037)\, Alfred-Döblin-Platz 1\, Freiburg\, 79100
CATEGORIES:Ausbildung,Kurs
END:VEVENT
BEGIN:VEVENT
DTSTART;TZID=Europe/Berlin:20240403T093000
DTEND;TZID=Europe/Berlin:20240405T133000
DTSTAMP:20260420T105540
CREATED:20230825T004039Z
LAST-MODIFIED:20240206T153318Z
UID:6567-1712136600-1712323800@www.franziskarief.de
SUMMARY:LernCampus – Osterferien  - YES\, I CAN 1 & 2
DESCRIPTION:Sag Ja zu Dir und Deinem Potential – YES I CAN STUDENTS\n # Mit Kinesiologie erfolgreich und leicht durchs Schuljahr #\n \nDurch das Erlernen kinesiologischer Techniken\, kannst Du Blockaden (z.B. auf das Lernen) auflösen\,\nSTRESS abbauen\, Deine KONZENTRATION steigern und Deine ZIELE integrieren. \nMit dem Workshop die FREUDE am LERNEN entdecken und das Schuljahr leicht und erfolgreich beenden. \nHIGHLIGHTS:\nYES\, I CAN 1: Mit Kinesiologie erfolgreich & leicht Ziele erreichen\, u.a. Gehirnaktivierung & Konzentrationssteigerung\, Glaubenssätze auflösen\, Klopfakuressur\, …\nYES\, I CAN 2: Mit Kinesiologie den Stoff leicht aufnehmen und wiedergeben\, u.a. Aroma-Öle – Unterstützung beim Lernen\,  Aufnahmefähigkeit von Augen & Ohren optimieren\, … \nTERMINE: \n\nYES\, I CAN 1 : Mi\, 03.04.24  /  09:30 – 13:30Uhr\nYES\, I CAN 2 : Fr\, 05.04.24  /   09:30 – 13:30Uhr\n\nDETAILS\nInteraktiver Workshop / mit Skript / 4 Stunden je Seminar\n\nEINTRITT\n95 € pro TeilnehmerIn /Workshop (85 € Freunde-/Geschwisterrabatt) \nOb Du glaubst\, Du schaffst es oder ob Du glaubst\, Du schaffst es nicht\, Du hast auf jeden Fall Recht! (Henry Ford)
URL:https://www.franziskarief.de/event/yes-i-can-1-3-2-halbjahr/
ATTACH;FMTTYPE=image/jpeg:https://www.franziskarief.de/wp-content/uploads/2019/12/f57d38b5-c4da-4558-b141-0162c1e2a57a-1.jpg
END:VEVENT
BEGIN:VEVENT
DTSTART;TZID=Europe/Berlin:20240215T093000
DTEND;TZID=Europe/Berlin:20240216T133000
DTSTAMP:20260420T105540
CREATED:20230825T001528Z
LAST-MODIFIED:20240206T153052Z
UID:6543-1707989400-1708090200@www.franziskarief.de
SUMMARY:LernCampus – Faschingsferien  - YES\, I CAN 1 & 3
DESCRIPTION:Sag Ja zu Dir und Deinem Potential – YES I CAN STUDENTS\n # Mit Kinesiologie erfolgreich und leicht durchs Schuljahr #\n \nDurch das Erlernen kinesiologischer Techniken\, kannst Du Blockaden (z.B. auf das Lernen) auflösen\,\nSTRESS abbauen\, Deine KONZENTRATION steigern und Deine ZIELE integrieren. \nMit dem Workshop die FREUDE am LERNEN entdecken und das Schuljahr leicht und erfolgreich beenden. \nHIGHLIGHTS:\nYES\, I CAN 1: Mit Kinesiologie erfolgreich & leicht Ziele erreichen\, u.a. Gehirnaktivierung & Konzentrationssteigerung\, Glaubenssätze auflösen\, Klopfakuressur\, …\nYES\, I CAN 3: Mit Kinesiologie erfolgreich Prüfungen absolvieren\, u.a. Lerntyp finden & nutzen\, Erfolgsprinzipien\, Energieräuber & Energiestärker\, … \nTERMINE: \n\nYES\, I CAN 1 : Do\, 15.02.24 / 09:30 – 13:30Uhr\nYES\, I CAN 3 : Fr\, 16.02.24 / 09:30 – 13:30Uhr\n\nDETAILS\nInteraktiver Workshop / mit Skript / 4 Stunden je Seminar\n\nEINTRITT\n95 € pro TeilnehmerIn /Workshop (85 € Freunde-/Geschwisterrabatt) \nOb Du glaubst\, Du schaffst es oder ob Du glaubst\, Du schaffst es nicht\, Du hast auf jeden Fall Recht! (Henry Ford) \n 
URL:https://www.franziskarief.de/event/yes-i-can-1-3-1-halbjahr/
CATEGORIES:Seminar
ATTACH;FMTTYPE=image/jpeg:https://www.franziskarief.de/wp-content/uploads/2019/12/f57d38b5-c4da-4558-b141-0162c1e2a57a-1.jpg
END:VEVENT
BEGIN:VEVENT
DTSTART;TZID=Europe/Berlin:20200307T100000
DTEND;TZID=Europe/Berlin:20200307T170000
DTSTAMP:20260420T105540
CREATED:20200201T205446Z
LAST-MODIFIED:20200504T171117Z
UID:486-1583575200-1583600400@www.franziskarief.de
SUMMARY:Workshop Moneyfestieren
DESCRIPTION:MoneyFestieren	\n	\n	\n\n	\nMONEYFESTIEREN \nist mehr als Geld\, es ist in Fülle Deine Berufung leben.  \n\nNutze Deine vielfältigen Einnahmemöglichkeiten vollständig.\nInvestiere stressfrei Geld.\nBaue Erfolgsblockaden im Bezug auf Bargeld\, Kryptowährung\, Kredite\, EFT‘s etc. ab…\nErhöhe Dein Füllelevel für 2020.\nFinde (mehr zu) Deiner großartige Berufung.\nLerne Mental- und Muskeltools kennen & nutzen.\n\nGELD ist ENERGIE\, DU bist ENERGIE \n… darum gehst Du fit und energievoll aus dem Workshop.
URL:https://www.franziskarief.de/event/workshop-moneyfestieren/
CATEGORIES:Events,Workshop
END:VEVENT
END:VCALENDAR